BEGIN:VCALENDAR
VERSION:2.0
PRODID:-//LNCMI - ECPv6.15.17.1//NONSGML v1.0//EN
CALSCALE:GREGORIAN
METHOD:PUBLISH
X-WR-CALNAME:LNCMI
X-ORIGINAL-URL:https://lncmi.cnrs.fr
X-WR-CALDESC:Évènements pour LNCMI
REFRESH-INTERVAL;VALUE=DURATION:PT1H
X-Robots-Tag:noindex
X-PUBLISHED-TTL:PT1H
BEGIN:VTIMEZONE
TZID:Europe/Paris
BEGIN:DAYLIGHT
TZOFFSETFROM:+0100
TZOFFSETTO:+0200
TZNAME:CEST
DTSTART:20240331T010000
END:DAYLIGHT
BEGIN:STANDARD
TZOFFSETFROM:+0200
TZOFFSETTO:+0100
TZNAME:CET
DTSTART:20241027T010000
END:STANDARD
BEGIN:DAYLIGHT
TZOFFSETFROM:+0100
TZOFFSETTO:+0200
TZNAME:CEST
DTSTART:20250330T010000
END:DAYLIGHT
BEGIN:STANDARD
TZOFFSETFROM:+0200
TZOFFSETTO:+0100
TZNAME:CET
DTSTART:20251026T010000
END:STANDARD
BEGIN:DAYLIGHT
TZOFFSETFROM:+0100
TZOFFSETTO:+0200
TZNAME:CEST
DTSTART:20260329T010000
END:DAYLIGHT
BEGIN:STANDARD
TZOFFSETFROM:+0200
TZOFFSETTO:+0100
TZNAME:CET
DTSTART:20261025T010000
END:STANDARD
BEGIN:DAYLIGHT
TZOFFSETFROM:+0100
TZOFFSETTO:+0200
TZNAME:CEST
DTSTART:20270328T010000
END:DAYLIGHT
BEGIN:STANDARD
TZOFFSETFROM:+0200
TZOFFSETTO:+0100
TZNAME:CET
DTSTART:20271031T010000
END:STANDARD
END:VTIMEZONE
BEGIN:VTIMEZONE
TZID:Europe/Helsinki
BEGIN:DAYLIGHT
TZOFFSETFROM:+0200
TZOFFSETTO:+0300
TZNAME:EEST
DTSTART:20240331T010000
END:DAYLIGHT
BEGIN:STANDARD
TZOFFSETFROM:+0300
TZOFFSETTO:+0200
TZNAME:EET
DTSTART:20241027T010000
END:STANDARD
BEGIN:DAYLIGHT
TZOFFSETFROM:+0200
TZOFFSETTO:+0300
TZNAME:EEST
DTSTART:20250330T010000
END:DAYLIGHT
BEGIN:STANDARD
TZOFFSETFROM:+0300
TZOFFSETTO:+0200
TZNAME:EET
DTSTART:20251026T010000
END:STANDARD
BEGIN:DAYLIGHT
TZOFFSETFROM:+0200
TZOFFSETTO:+0300
TZNAME:EEST
DTSTART:20260329T010000
END:DAYLIGHT
BEGIN:STANDARD
TZOFFSETFROM:+0300
TZOFFSETTO:+0200
TZNAME:EET
DTSTART:20261025T010000
END:STANDARD
END:VTIMEZONE
BEGIN:VEVENT
DTSTART;TZID=Europe/Paris:20260123T080000
DTEND;TZID=Europe/Paris:20260129T120000
DTSTAMP:20260424T075958
CREATED:20260123T153320Z
LAST-MODIFIED:20260123T153320Z
UID:24720-1769155200-1769688000@lncmi.cnrs.fr
SUMMARY:Soutenance de thèse de Jérémy Sarrade - 28 janvier 2026
DESCRIPTION:La thèse s’intitule « Magnétisme\, supraconductivité et points critiques quantiques dans CeRh1-xIrxIn5 » \nLa présentation ainsi que les slides seront en français. \nDirection de thèse :\nIlya Sheikin (Directeur)\nThierry Klein (Co-directeur)\nAlbin De Muer (Co-encadrant) \nJury composé de :\nElena Hassinger (Full professor\, Karlsruher Institut für Technologie\, Karlsuhe\, rapporteuse)\nAlain Pautrat (Directeur de recherche\, Laboratoire de Cristallographie et Sciences des Matériaux\, Caen\, rapporteur)\nSébastien Burdin (Professeur des Universités\, Université de Bordeaux\, Bordeaux\, examinateur)\nOlivier Isnard (Professeur des Université\, Université Grenoble-Alpes\, Grenoble\, examinateur)\nJean-Pascal Brison (Directeur de recherche\, CEA\, Grenoble\, examinateur) \nRésumé : \nCette thèse porte sur l’étude thermodynamique de la série de matériaux à fermions lourds CeRh1-xIrxIn5\, de structure cristallographique tétragonale primitive. Le composé pur à x = 0\, CeRhIn5\, présente à basse température un ordre antiferromagnétique incommensurable AFM I en dessous de 3.7 K. Lorsqu’un champ magnétique est appliqué selon l’axe c\, une transition de phase se produit à champ élevé autour de B* = 30 T vers un état probablement de même nature mais avec un vecteur de propagation différent\, qui lui disparaît autour de 52 T [1]. A champ nul\, des études de neutrons ont montré que la phase AFM I coexistent avec une phase antiferromagnétique commensurable AFM C au delà de x = 0.3 et jusqu’à x = 0.6 où les deux phases disparaissent en un point critique quantique (QCP). Autour de ce QCP\, un dôme de supraconductivité émerge et atteint au maximum une température de transition à Tc(x = 0.5) = 0.8 K [2]. La supraconductivité se maintient jusqu’à l’autre élément pur à x = 1\, CeIrIn5\, qui est paramagnétique à champ nul. Cependant\, deux transitions de phases ont été observées sous champ parallèle à c [3]. La première à Bc autour de 26 T qui semble d’après des données non-publiées correspondre à un rare cas de transition d’une phase paramagnétique vers une phase antiferromagnétique commensurable AF C2 (mais différent de AFM C). La deuxième a été vue à Bm autour de 40 T mais peu d’informations à son sujet sont disponibles. Le reste de la série a été peu étudié sous champ. Durant cette thèse\, nous avons exploré le diagramme de phase grâce à des mesures de chaleur spécifique sous champs statiques intenses (jusqu’à 35 T) et des mesures de torque  magnétique sous champs pulsés (jusqu’à 50 T) pour des composés proches du QCP (x = 0.4 ; 0.5 ; 0.6 ; 0.78 & 0.87) pour des températures comprises entre 300 mK et 5 K afin de comprendre l’évolution de toutes ces phases avec le dopage. Nos mesures de chaleur spécifique montrent notamment une nouvelle anomalie à bas champs\, cachée par la supraconductivité à champ nul\, qui n’avait pas été observée dans les études précédentes ainsi que le rapprochement de la transition à Bc (vers l’état AF C2) vers des champs plus faibles pour le composé à x = 0.6\, comparé aux composés de dopage x plus grand\, alors même que cette phase n’apparaît pas à champ nul dans la série. De plus\, les mesures de torque semblent indiquer que AF C2\, qui apparaît à Bc\, disparaîtrait à Bm\, dessinant un dome dans le diagramme de phase H-T. Ces résultats permettent d’un côté de comprendre les comportements des phases magnétiques jusqu’à des champs intenses\, et suggèrent de l’autre un diagramme de phase à champ nul modifié par rapport à celui présenté dans la littérature. \n[1] S. Mishra et al.\, Phys. Rev. B 103\, 045110 (2021)\n[2] A. Llobet et al.\, Phys. Rev. Lett. 95\, 217002 (2005)\n[3] R. Kurihara et al.\, in Proceedings of the 29th International Conference on Low Temperature Physics (LT29) (Journal of the Physical Society of Japan\, Sapporo\, Japan (Hybrid)\, 2023)
URL:https://lncmi.cnrs.fr/event/soutenance-de-these-de-jeremy-sarrade-28-janvier-2026/
LOCATION:CNRS\, 25\, Rue des MArtyrs\, France
END:VEVENT
BEGIN:VEVENT
DTSTART;TZID=Europe/Paris:20260120T090000
DTEND;TZID=Europe/Paris:20260121T170000
DTSTAMP:20260424T075958
CREATED:20251203T152412Z
LAST-MODIFIED:20251203T153628Z
UID:24690-1768899600-1769014800@lncmi.cnrs.fr
SUMMARY:Colloque Ecoconception du 20 au 21 janvier 2026 (Paris)
DESCRIPTION:Du mar. 20.01.2026 9:00 au mer. 21.01.2026 17:00\nAuditorium Marie-Curie 3 rue Michel-Ange 75016 Paris \nColloque \nLa Mission pour les initiatives transverses et interdisciplinaires (MITI) en partenariat avec la Direction des relations avec les entreprises (DRE) et le Pôle transition environnementale du CNRS organise un colloque interdisciplinaire sur l’Ecoconception.
URL:https://lncmi.cnrs.fr/event/colloque-ecoconception/
END:VEVENT
BEGIN:VEVENT
DTSTART;VALUE=DATE:20251203
DTEND;VALUE=DATE:20260101
DTSTAMP:20260424T075958
CREATED:20251202T230006Z
LAST-MODIFIED:20251203T145659Z
UID:24682-1764720000-1767225599@lncmi.cnrs.fr
SUMMARY:Cérémonie de remise du Cristal collectif CNRS 2025 - décembre 2025
DESCRIPTION:
URL:https://lncmi.cnrs.fr/event/ceremonie-de-remise-du-cristal-collectif-cnrs-2025-decembre-2025/
END:VEVENT
BEGIN:VEVENT
DTSTART;VALUE=DATE:20251124
DTEND;VALUE=DATE:20251127
DTSTAMP:20260424T075958
CREATED:20250605T135138Z
LAST-MODIFIED:20250711T131224Z
UID:21985-1763942400-1764201599@lncmi.cnrs.fr
SUMMARY:Workshop Franco-Tchèque du 24 au 26 novembre 2025 (Grenoble)
DESCRIPTION:Workshop Franco-Tchèque du 24 au 26 novembre 2025 (Grenoble)
URL:https://lncmi.cnrs.fr/event/workshop-franco-tcheque-du-24-au-26-novembre-2024-grenoble/
END:VEVENT
BEGIN:VEVENT
DTSTART;VALUE=DATE:20251118
DTEND;VALUE=DATE:20251120
DTSTAMP:20260424T075958
CREATED:20250605T140140Z
LAST-MODIFIED:20250605T140140Z
UID:21996-1763424000-1763596799@lncmi.cnrs.fr
SUMMARY:HCERES : visite de l’unité par le comité d’experts le 18 (Grenoble) et 19 (Toulouse) novembre 2025
DESCRIPTION:HCERES : visite de l’unité par le comité d’experts le 18 (Grenoble) et 19 (Toulouse) novembre 2025
URL:https://lncmi.cnrs.fr/event/hceres-visite-de-lunite-par-le-comite-dexperts-le-18-grenoble-et-19-toulouse-novembre-2025/
END:VEVENT
BEGIN:VEVENT
DTSTART;VALUE=DATE:20251019
DTEND;VALUE=DATE:20251024
DTSTAMP:20260424T075958
CREATED:20250605T135221Z
LAST-MODIFIED:20250605T135221Z
UID:21987-1760832000-1761263999@lncmi.cnrs.fr
SUMMARY:International Conference on MagnetoScience 2025 du 19 au 23 octobre 2025 (Avignon)
DESCRIPTION:International Conference on MagnetoScience 2025 du 19 au 23 octobre 2025 (Avignon) / lien : https://icms2025.sciencesconf.org/
URL:https://lncmi.cnrs.fr/event/international-conference-on-magnetoscience-2025-du-19-au-23-octobre-2025-avignon/
END:VEVENT
BEGIN:VEVENT
DTSTART;VALUE=DATE:20251003
DTEND;VALUE=DATE:20251014
DTSTAMP:20260424T075958
CREATED:20250207T162226Z
LAST-MODIFIED:20250605T134952Z
UID:15328-1759449600-1760399999@lncmi.cnrs.fr
SUMMARY:Fête de la science 2025 du 3 au 13 octobre 2025
DESCRIPTION:En 2025\, la Fête de la science se déroulera du 3 au 13 octobre sur le thème “Intelligence(s)”. \nChaque année en octobre\, dans toute la France\, les acteurs des sciences\, de la culture et de la culture scientifique offrent au public des animations\, expositions\, conférences\, ateliers et spectacles qui tissent des liens entre science et société.
URL:https://lncmi.cnrs.fr/event/fete-de-la-science-2/
CATEGORIES:Autres
END:VEVENT
BEGIN:VEVENT
DTSTART;VALUE=DATE:20250921
DTEND;VALUE=DATE:20250924
DTSTAMP:20260424T075958
CREATED:20250605T140055Z
LAST-MODIFIED:20250605T140055Z
UID:21994-1758412800-1758671999@lncmi.cnrs.fr
SUMMARY:EMFL Days du 21 au 23 septembre 2026 à Toulouse
DESCRIPTION:EMFL Days du 21 au 23 septembre 2026 à Toulouse
URL:https://lncmi.cnrs.fr/event/emfl-days-du-21-au-23-septembre-2026-a-toulouse/
END:VEVENT
BEGIN:VEVENT
DTSTART;TZID=Europe/Paris:20250702T140000
DTEND;TZID=Europe/Paris:20250702T170000
DTSTAMP:20260424T075958
CREATED:20250605T134835Z
LAST-MODIFIED:20250605T135502Z
UID:21982-1751464800-1751475600@lncmi.cnrs.fr
SUMMARY:Soutenance thèse : Lou-Anne Veyrat de Lachenal le 2 juillet 2025 à 14h
DESCRIPTION:Soutenance thèse : Lou-Anne Veyrat de Lachenal le 2 juillet 2025 à 14h\, Salle de Conférence R. Pauthenet –  » Développement d’un dispositif de mesure de la chaleur spécifique d’un gaz d’électrons bidimensionnel dans le régime Hall quantique« .
URL:https://lncmi.cnrs.fr/event/soutenance-these-lou-anne-veyrat-de-lachenal-le-2-juillet-2025-a-14h/
LOCATION:CNRS\, 25\, Rue des MArtyrs\, France
CATEGORIES:Soutenance thèse
END:VEVENT
BEGIN:VEVENT
DTSTART;VALUE=DATE:20250617
DTEND;VALUE=DATE:20250618
DTSTAMP:20260424T075958
CREATED:20250605T135932Z
LAST-MODIFIED:20250605T135932Z
UID:21992-1750118400-1750204799@lncmi.cnrs.fr
SUMMARY:EMFL Users Meeting 17 juin 2025\, Lecce\, Italie
DESCRIPTION:EMFL Users Meeting 17 juin 2025\, Lecce\, Italie (lien vers la page : https://indico.imapp.ru.nl/event/316/overview)
URL:https://lncmi.cnrs.fr/event/emfl-users-meeting-17-juin-2025-lecce-italie/
END:VEVENT
END:VCALENDAR