BEGIN:VCALENDAR
VERSION:2.0
PRODID:-//LNCMI - ECPv6.15.17.1//NONSGML v1.0//EN
CALSCALE:GREGORIAN
METHOD:PUBLISH
X-ORIGINAL-URL:https://lncmi.cnrs.fr
X-WR-CALDESC:Évènements pour LNCMI
REFRESH-INTERVAL;VALUE=DURATION:PT1H
X-Robots-Tag:noindex
X-PUBLISHED-TTL:PT1H
BEGIN:VTIMEZONE
TZID:Europe/Paris
BEGIN:DAYLIGHT
TZOFFSETFROM:+0100
TZOFFSETTO:+0200
TZNAME:CEST
DTSTART:20250330T010000
END:DAYLIGHT
BEGIN:STANDARD
TZOFFSETFROM:+0200
TZOFFSETTO:+0100
TZNAME:CET
DTSTART:20251026T010000
END:STANDARD
BEGIN:DAYLIGHT
TZOFFSETFROM:+0100
TZOFFSETTO:+0200
TZNAME:CEST
DTSTART:20260329T010000
END:DAYLIGHT
BEGIN:STANDARD
TZOFFSETFROM:+0200
TZOFFSETTO:+0100
TZNAME:CET
DTSTART:20261025T010000
END:STANDARD
BEGIN:DAYLIGHT
TZOFFSETFROM:+0100
TZOFFSETTO:+0200
TZNAME:CEST
DTSTART:20270328T010000
END:DAYLIGHT
BEGIN:STANDARD
TZOFFSETFROM:+0200
TZOFFSETTO:+0100
TZNAME:CET
DTSTART:20271031T010000
END:STANDARD
END:VTIMEZONE
BEGIN:VEVENT
DTSTART;VALUE=DATE:20261026
DTEND;VALUE=DATE:20261031
DTSTAMP:20260421T005352
CREATED:20251203T153846Z
LAST-MODIFIED:20251203T153931Z
UID:24694-1792972800-1793404799@lncmi.cnrs.fr
SUMMARY:Journées de la Matière Condensée 2026 (JMC) du 26 au 30 octobre 2026 (Toulouse)
DESCRIPTION:Du lun. 26.10.2026 au ven. 30.10.2026\nUniversité de Toulouse 118 route de Narbonne 31400 Toulouse \nColloque \nLes prochaines Journées de la Matière Condensée (JMC)\, organisées toutes les années paires par la Division de Physique de la Matière Condensée de la Société Française de Physique (SFP)\, se tiendront du 26 au 30 octobre 2026 à Toulouse.
URL:https://lncmi.cnrs.fr/event/journees-de-la-matiere-condensee-2026-jmc-du-26-au-30-octobre-2026-toulouse/
END:VEVENT
END:VCALENDAR