BEGIN:VCALENDAR
VERSION:2.0
PRODID:-//LNCMI - ECPv6.15.17.1//NONSGML v1.0//EN
CALSCALE:GREGORIAN
METHOD:PUBLISH
X-WR-CALNAME:LNCMI
X-ORIGINAL-URL:https://lncmi.cnrs.fr/en/
X-WR-CALDESC:Events for LNCMI
REFRESH-INTERVAL;VALUE=DURATION:PT1H
X-Robots-Tag:noindex
X-PUBLISHED-TTL:PT1H
BEGIN:VTIMEZONE
TZID:Europe/Paris
BEGIN:DAYLIGHT
TZOFFSETFROM:+0100
TZOFFSETTO:+0200
TZNAME:CEST
DTSTART:20240331T010000
END:DAYLIGHT
BEGIN:STANDARD
TZOFFSETFROM:+0200
TZOFFSETTO:+0100
TZNAME:CET
DTSTART:20241027T010000
END:STANDARD
BEGIN:DAYLIGHT
TZOFFSETFROM:+0100
TZOFFSETTO:+0200
TZNAME:CEST
DTSTART:20250330T010000
END:DAYLIGHT
BEGIN:STANDARD
TZOFFSETFROM:+0200
TZOFFSETTO:+0100
TZNAME:CET
DTSTART:20251026T010000
END:STANDARD
BEGIN:DAYLIGHT
TZOFFSETFROM:+0100
TZOFFSETTO:+0200
TZNAME:CEST
DTSTART:20260329T010000
END:DAYLIGHT
BEGIN:STANDARD
TZOFFSETFROM:+0200
TZOFFSETTO:+0100
TZNAME:CET
DTSTART:20261025T010000
END:STANDARD
END:VTIMEZONE
BEGIN:VEVENT
DTSTART;VALUE=DATE:20251118
DTEND;VALUE=DATE:20251120
DTSTAMP:20260424T061338
CREATED:20250605T140140Z
LAST-MODIFIED:20250605T140140Z
UID:22071-1763424000-1763596799@lncmi.cnrs.fr
SUMMARY:HCERES: visit to unit by expert committee on November 18 (Grenoble) and 19 (Toulouse) 2025
DESCRIPTION:HCERES: visit to unit by expert committee on November 18 (Grenoble) and 19 (Toulouse) 2025
URL:https://lncmi.cnrs.fr/en/event/hceres-visit-to-unit-by-expert-committee-on-november-18-grenoble-and-19-toulouse-2025/
END:VEVENT
BEGIN:VEVENT
DTSTART;VALUE=DATE:20251124
DTEND;VALUE=DATE:20251127
DTSTAMP:20260424T061338
CREATED:20250605T135138Z
LAST-MODIFIED:20250711T131316Z
UID:22068-1763942400-1764201599@lncmi.cnrs.fr
SUMMARY:Franco-Czech workshop November 24-26\, 2025 (Grenoble)
DESCRIPTION:Franco-Czech workshop November 24-26\, 2025 (Grenoble)
URL:https://lncmi.cnrs.fr/en/event/workshop-franco-tcheque-du-24-au-26-novembre-2024-grenoble/
END:VEVENT
END:VCALENDAR