BEGIN:VCALENDAR
VERSION:2.0
PRODID:-//LNCMI - ECPv6.15.17.1//NONSGML v1.0//EN
CALSCALE:GREGORIAN
METHOD:PUBLISH
X-WR-CALNAME:LNCMI
X-ORIGINAL-URL:https://lncmi.cnrs.fr/en/
X-WR-CALDESC:Events for LNCMI
REFRESH-INTERVAL;VALUE=DURATION:PT1H
X-Robots-Tag:noindex
X-PUBLISHED-TTL:PT1H
BEGIN:VTIMEZONE
TZID:Europe/Paris
BEGIN:DAYLIGHT
TZOFFSETFROM:+0100
TZOFFSETTO:+0200
TZNAME:CEST
DTSTART:20250330T010000
END:DAYLIGHT
BEGIN:STANDARD
TZOFFSETFROM:+0200
TZOFFSETTO:+0100
TZNAME:CET
DTSTART:20251026T010000
END:STANDARD
BEGIN:DAYLIGHT
TZOFFSETFROM:+0100
TZOFFSETTO:+0200
TZNAME:CEST
DTSTART:20260329T010000
END:DAYLIGHT
BEGIN:STANDARD
TZOFFSETFROM:+0200
TZOFFSETTO:+0100
TZNAME:CET
DTSTART:20261025T010000
END:STANDARD
BEGIN:DAYLIGHT
TZOFFSETFROM:+0100
TZOFFSETTO:+0200
TZNAME:CEST
DTSTART:20270328T010000
END:DAYLIGHT
BEGIN:STANDARD
TZOFFSETFROM:+0200
TZOFFSETTO:+0100
TZNAME:CET
DTSTART:20271031T010000
END:STANDARD
END:VTIMEZONE
BEGIN:VEVENT
DTSTART;TZID=Europe/Paris:20260120T090000
DTEND;TZID=Europe/Paris:20260121T170000
DTSTAMP:20260424T081641
CREATED:20251203T152412Z
LAST-MODIFIED:20251203T152412Z
UID:24696-1768899600-1769014800@lncmi.cnrs.fr
SUMMARY:Ecodesign symposium\, January 20-21\, 2026 (Paris)
DESCRIPTION:From Tue. 20.01.2026 9:00 to Wed. 21.01.2026 17:00\nAuditorium Marie-Curie 3 rue Michel-Ange 75016 Paris   \nColloquium \nThe Mission pour les initiatives transverses et interdisciplinaires (MITI)\, in partnership with the Direction des relations avec les entreprises (DRE) and the Pôle transition environnementale of the CNRS\, is organizing an interdisciplinary symposium on Ecodesign.
URL:https://lncmi.cnrs.fr/en/event/ecodesign-symposium-january-20-21-2026-paris/
END:VEVENT
END:VCALENDAR