BEGIN:VCALENDAR
VERSION:2.0
PRODID:-//LNCMI - ECPv6.15.17.1//NONSGML v1.0//EN
CALSCALE:GREGORIAN
METHOD:PUBLISH
X-WR-CALNAME:LNCMI
X-ORIGINAL-URL:https://lncmi.cnrs.fr/en/
X-WR-CALDESC:Events for LNCMI
REFRESH-INTERVAL;VALUE=DURATION:PT1H
X-Robots-Tag:noindex
X-PUBLISHED-TTL:PT1H
BEGIN:VTIMEZONE
TZID:Europe/Paris
BEGIN:DAYLIGHT
TZOFFSETFROM:+0100
TZOFFSETTO:+0200
TZNAME:CEST
DTSTART:20250330T010000
END:DAYLIGHT
BEGIN:STANDARD
TZOFFSETFROM:+0200
TZOFFSETTO:+0100
TZNAME:CET
DTSTART:20251026T010000
END:STANDARD
BEGIN:DAYLIGHT
TZOFFSETFROM:+0100
TZOFFSETTO:+0200
TZNAME:CEST
DTSTART:20260329T010000
END:DAYLIGHT
BEGIN:STANDARD
TZOFFSETFROM:+0200
TZOFFSETTO:+0100
TZNAME:CET
DTSTART:20261025T010000
END:STANDARD
BEGIN:DAYLIGHT
TZOFFSETFROM:+0100
TZOFFSETTO:+0200
TZNAME:CEST
DTSTART:20270328T010000
END:DAYLIGHT
BEGIN:STANDARD
TZOFFSETFROM:+0200
TZOFFSETTO:+0100
TZNAME:CET
DTSTART:20271031T010000
END:STANDARD
END:VTIMEZONE
BEGIN:VEVENT
DTSTART;VALUE=DATE:20261026
DTEND;VALUE=DATE:20261031
DTSTAMP:20260420T215738
CREATED:20251203T153846Z
LAST-MODIFIED:20251203T153846Z
UID:24697-1792972800-1793404799@lncmi.cnrs.fr
SUMMARY:Journées de la Matière Condensée 2026 (JMC) October 26-30\, 2026 (Toulouse)
DESCRIPTION:Mon. 10.26.2026 – Fri. 10.30.2026\nUniversity of Toulouse 118 route de Narbonne 31400 Toulouse   \nColloquium \nThe next Journées de la Matière Condensée (JMC)\, organized every even-numbered year by the Condensed Matter Physics Division of the Société Française de Physique (SFP)\, will be held from October 26 to 30\, 2026 in Toulouse.
URL:https://lncmi.cnrs.fr/en/event/journees-de-la-matiere-condensee-2026-jmc-october-26-30-2026-toulouse/
END:VEVENT
END:VCALENDAR